BEGIN:VCALENDAR
METHOD:PUBLISH
VERSION:2.0
CALSCALE:GREGORIAN
PRODID:-//NONSGML WPForms//NONSGML Sugar Calendar Feeds v3.11.0//EN
X-WR-CALNAME:BN off
X-WR-CALDESC:Lifespan Family Healthcare
X-WR-TIMEZONE:UTC
BEGIN:VTIMEZONE
TZID:UTC
BEGIN:STANDARD
TZOFFSETFROM:+0000
TZOFFSETTO:+0000
DTSTART:20201126T120000
TZNAME:UTC
END:STANDARD
END:VTIMEZONE
BEGIN:VTIMEZONE
TZID:UTC
BEGIN:STANDARD
TZOFFSETFROM:+0000
TZOFFSETTO:+0000
DTSTART:20201126T120000
TZNAME:UTC
END:STANDARD
END:VTIMEZONE
BEGIN:VEVENT
SUMMARY:BN off
DESCRIPTION:
URL;VALUE=URI:https://lifespanfamilyhealthcare.com/events/bn-off-8/
UID:urn:uuid:dc0ca2bb-da7d-42f1-8d0a-c7b1be55f00b
STATUS:CONFIRMED
ORGANIZER:
DTSTAMP:20260425T115428Z
DTSTART;VALUE=DATE:20210528
END:VEVENT
END:VCALENDAR