BEGIN:VCALENDAR
METHOD:PUBLISH
VERSION:2.0
CALSCALE:GREGORIAN
PRODID:-//NONSGML WPForms//NONSGML Sugar Calendar Feeds v3.11.0//EN
X-WR-CALNAME:Closed - Merry Christmas
X-WR-CALDESC:Lifespan Family Healthcare
X-WR-TIMEZONE:UTC
BEGIN:VTIMEZONE
TZID:UTC
BEGIN:STANDARD
TZOFFSETFROM:+0000
TZOFFSETTO:+0000
DTSTART:20220626T120000
TZNAME:UTC
END:STANDARD
END:VTIMEZONE
BEGIN:VTIMEZONE
TZID:UTC
BEGIN:STANDARD
TZOFFSETFROM:+0000
TZOFFSETTO:+0000
DTSTART:20220626T120000
TZNAME:UTC
END:STANDARD
END:VTIMEZONE
BEGIN:VEVENT
SUMMARY:Closed - Merry Christmas
DESCRIPTION:
URL;VALUE=URI:https://lifespanfamilyhealthcare.com/events/closed-merry-c
 hristmas/
UID:urn:uuid:4862414d-50c5-47ac-af22-2dd58cd0f84c
STATUS:CONFIRMED
ORGANIZER:
DTSTAMP:20260423T090114Z
DTSTART;VALUE=DATE:20221226
END:VEVENT
END:VCALENDAR