BEGIN:VCALENDAR
METHOD:PUBLISH
VERSION:2.0
CALSCALE:GREGORIAN
PRODID:-//NONSGML WPForms//NONSGML Sugar Calendar Feeds v3.11.0//EN
X-WR-CALNAME:Prov Operations mtg
X-WR-CALDESC:Lifespan Family Healthcare
X-WR-TIMEZONE:UTC
BEGIN:VTIMEZONE
TZID:UTC
BEGIN:STANDARD
TZOFFSETFROM:+0000
TZOFFSETTO:+0000
DTSTART:20210915T011500
TZNAME:UTC
END:STANDARD
END:VTIMEZONE
BEGIN:VTIMEZONE
TZID:UTC
BEGIN:STANDARD
TZOFFSETFROM:+0000
TZOFFSETTO:+0000
DTSTART:20210915T011500
TZNAME:UTC
END:STANDARD
END:VTIMEZONE
BEGIN:VEVENT
SUMMARY:Prov Operations mtg
DESCRIPTION:
URL;VALUE=URI:https://lifespanfamilyhealthcare.com/events/clt-10/
UID:urn:uuid:0b7b6572-4eee-44a2-bd28-abc73d1a4625
STATUS:CONFIRMED
ORGANIZER:
DTSTAMP:20260423T084934Z
DTSTART;TZID=UTC:20220316T131500
DTEND;TZID=UTC:20220316T140000
END:VEVENT
END:VCALENDAR