BEGIN:VCALENDAR
METHOD:PUBLISH
VERSION:2.0
CALSCALE:GREGORIAN
PRODID:-//NONSGML WPForms//NONSGML Sugar Calendar Feeds v3.11.0//EN
X-WR-CALNAME:CP off
X-WR-CALDESC:Lifespan Family Healthcare
X-WR-TIMEZONE:UTC
BEGIN:VTIMEZONE
TZID:UTC
BEGIN:STANDARD
TZOFFSETFROM:+0000
TZOFFSETTO:+0000
DTSTART:20210106T120000
TZNAME:UTC
END:STANDARD
END:VTIMEZONE
BEGIN:VTIMEZONE
TZID:UTC
BEGIN:STANDARD
TZOFFSETFROM:+0000
TZOFFSETTO:+0000
DTSTART:20210106T120000
TZNAME:UTC
END:STANDARD
END:VTIMEZONE
BEGIN:VEVENT
SUMMARY:CP off
DESCRIPTION:
URL;VALUE=URI:https://lifespanfamilyhealthcare.com/events/cp-off-2/
UID:urn:uuid:82e1280f-ea9d-4090-b5ca-a0bca604f255
STATUS:CONFIRMED
ORGANIZER:
DTSTAMP:20260425T103114Z
DTSTART;VALUE=DATE:20210708
END:VEVENT
END:VCALENDAR