BEGIN:VCALENDAR
METHOD:PUBLISH
VERSION:2.0
CALSCALE:GREGORIAN
PRODID:-//NONSGML WPForms//NONSGML Sugar Calendar Feeds v3.11.0//EN
X-WR-CALNAME:HED off
X-WR-CALDESC:Lifespan Family Healthcare
X-WR-TIMEZONE:UTC
BEGIN:VTIMEZONE
TZID:UTC
BEGIN:STANDARD
TZOFFSETFROM:+0000
TZOFFSETTO:+0000
DTSTART:20220303T120000
TZNAME:UTC
END:STANDARD
END:VTIMEZONE
BEGIN:VTIMEZONE
TZID:UTC
BEGIN:STANDARD
TZOFFSETFROM:+0000
TZOFFSETTO:+0000
DTSTART:20220303T120000
TZNAME:UTC
END:STANDARD
END:VTIMEZONE
BEGIN:VEVENT
SUMMARY:HED off
DESCRIPTION:
URL;VALUE=URI:https://lifespanfamilyhealthcare.com/events/hed-off-10/
UID:urn:uuid:bcbbf276-d769-4bf4-920c-57f9ace63ed8
STATUS:CONFIRMED
ORGANIZER:
DTSTAMP:20260423T105131Z
DTSTART;VALUE=DATE:20220902
END:VEVENT
END:VCALENDAR