BEGIN:VCALENDAR
METHOD:PUBLISH
VERSION:2.0
CALSCALE:GREGORIAN
PRODID:-//NONSGML WPForms//NONSGML Sugar Calendar Feeds v3.11.0//EN
X-WR-CALNAME:HED off
X-WR-CALDESC:Lifespan Family Healthcare
X-WR-TIMEZONE:UTC
BEGIN:VTIMEZONE
TZID:UTC
BEGIN:STANDARD
TZOFFSETFROM:+0000
TZOFFSETTO:+0000
DTSTART:20220109T120000
TZNAME:UTC
END:STANDARD
END:VTIMEZONE
BEGIN:VTIMEZONE
TZID:UTC
BEGIN:STANDARD
TZOFFSETFROM:+0000
TZOFFSETTO:+0000
DTSTART:20220109T120000
TZNAME:UTC
END:STANDARD
END:VTIMEZONE
BEGIN:VEVENT
SUMMARY:HED off
DESCRIPTION:
URL;VALUE=URI:https://lifespanfamilyhealthcare.com/events/hed-off-11/
UID:urn:uuid:b94d76b9-d5e7-43f7-b9eb-ddf16cbfdc91
STATUS:CONFIRMED
ORGANIZER:
DTSTAMP:20260423T133819Z
DTSTART;VALUE=DATE:20220711
END:VEVENT
END:VCALENDAR