BEGIN:VCALENDAR
METHOD:PUBLISH
VERSION:2.0
CALSCALE:GREGORIAN
PRODID:-//NONSGML WPForms//NONSGML Sugar Calendar Feeds v3.11.0//EN
X-WR-CALNAME:HED off
X-WR-CALDESC:Lifespan Family Healthcare
X-WR-TIMEZONE:UTC
BEGIN:VTIMEZONE
TZID:UTC
BEGIN:STANDARD
TZOFFSETFROM:+0000
TZOFFSETTO:+0000
DTSTART:20240822T120000
TZNAME:UTC
END:STANDARD
END:VTIMEZONE
BEGIN:VTIMEZONE
TZID:UTC
BEGIN:STANDARD
TZOFFSETFROM:+0000
TZOFFSETTO:+0000
DTSTART:20240822T120000
TZNAME:UTC
END:STANDARD
END:VTIMEZONE
BEGIN:VEVENT
SUMMARY:HED off
DESCRIPTION:
URL;VALUE=URI:https://lifespanfamilyhealthcare.com/events/hed-off-24/
UID:urn:uuid:118ccb88-2616-415b-9143-253b856b5d96
STATUS:CONFIRMED
ORGANIZER:
DTSTAMP:20260419T144826Z
DTSTART;VALUE=DATE:20250221
END:VEVENT
END:VCALENDAR