BEGIN:VCALENDAR
METHOD:PUBLISH
VERSION:2.0
CALSCALE:GREGORIAN
PRODID:-//NONSGML WPForms//NONSGML Sugar Calendar Feeds v3.11.0//EN
X-WR-CALNAME:HS off
X-WR-CALDESC:Lifespan Family Healthcare
X-WR-TIMEZONE:UTC
BEGIN:VTIMEZONE
TZID:UTC
BEGIN:STANDARD
TZOFFSETFROM:+0000
TZOFFSETTO:+0000
DTSTART:20210606T120000
TZNAME:UTC
END:STANDARD
END:VTIMEZONE
BEGIN:VTIMEZONE
TZID:UTC
BEGIN:STANDARD
TZOFFSETFROM:+0000
TZOFFSETTO:+0000
DTSTART:20210606T120000
TZNAME:UTC
END:STANDARD
END:VTIMEZONE
BEGIN:VEVENT
SUMMARY:HS off
DESCRIPTION:
URL;VALUE=URI:https://lifespanfamilyhealthcare.com/events/hs-off-7/
UID:urn:uuid:35c1200c-a379-458f-8f46-b1e7f43b097a
STATUS:CONFIRMED
ORGANIZER:
DTSTAMP:20260422T131236Z
DTSTART;VALUE=DATE:20211206
DTEND;VALUE=DATE:20211209
END:VEVENT
END:VCALENDAR