BEGIN:VCALENDAR
METHOD:PUBLISH
VERSION:2.0
CALSCALE:GREGORIAN
PRODID:-//NONSGML WPForms//NONSGML Sugar Calendar Feeds v3.11.0//EN
X-WR-CALNAME:KC leaves 1pm
X-WR-CALDESC:Lifespan Family Healthcare
X-WR-TIMEZONE:UTC
BEGIN:VTIMEZONE
TZID:UTC
BEGIN:STANDARD
TZOFFSETFROM:+0000
TZOFFSETTO:+0000
DTSTART:20230119T010000
TZNAME:UTC
END:STANDARD
END:VTIMEZONE
BEGIN:VTIMEZONE
TZID:UTC
BEGIN:STANDARD
TZOFFSETFROM:+0000
TZOFFSETTO:+0000
DTSTART:20230119T010000
TZNAME:UTC
END:STANDARD
END:VTIMEZONE
BEGIN:VEVENT
SUMMARY:KC leaves 1pm
DESCRIPTION:
URL;VALUE=URI:https://lifespanfamilyhealthcare.com/events/kc-leaves-1pm/
UID:urn:uuid:2407138d-d6bb-46e5-9942-5125ea16c121
STATUS:CONFIRMED
ORGANIZER:
DTSTAMP:20260421T040810Z
DTSTART;TZID=UTC:20230720T130000
DTEND;TZID=UTC:20230720T170000
END:VEVENT
END:VCALENDAR