BEGIN:VCALENDAR
METHOD:PUBLISH
VERSION:2.0
CALSCALE:GREGORIAN
PRODID:-//NONSGML WPForms//NONSGML Sugar Calendar Feeds v3.11.0//EN
X-WR-CALNAME:KC off
X-WR-CALDESC:Lifespan Family Healthcare
X-WR-TIMEZONE:UTC
BEGIN:VTIMEZONE
TZID:UTC
BEGIN:STANDARD
TZOFFSETFROM:+0000
TZOFFSETTO:+0000
DTSTART:20241106T120000
TZNAME:UTC
END:STANDARD
END:VTIMEZONE
BEGIN:VTIMEZONE
TZID:UTC
BEGIN:STANDARD
TZOFFSETFROM:+0000
TZOFFSETTO:+0000
DTSTART:20241106T120000
TZNAME:UTC
END:STANDARD
END:VTIMEZONE
BEGIN:VEVENT
SUMMARY:KC off
DESCRIPTION:
URL;VALUE=URI:https://lifespanfamilyhealthcare.com/events/kc-off-31/
UID:urn:uuid:03c2f45e-4b67-4158-922c-0d14ef7cce81
STATUS:CONFIRMED
ORGANIZER:
DTSTAMP:20260419T131730Z
DTSTART;VALUE=DATE:20250508
DTEND;VALUE=DATE:20250509
END:VEVENT
END:VCALENDAR