BEGIN:VCALENDAR
METHOD:PUBLISH
VERSION:2.0
CALSCALE:GREGORIAN
PRODID:-//NONSGML WPForms//NONSGML Sugar Calendar Feeds v3.11.0//EN
X-WR-CALNAME:Merry Christmas!
X-WR-CALDESC:Lifespan Family Healthcare
X-WR-TIMEZONE:UTC
BEGIN:VTIMEZONE
TZID:UTC
BEGIN:STANDARD
TZOFFSETFROM:+0000
TZOFFSETTO:+0000
DTSTART:20250625T120000
TZNAME:UTC
END:STANDARD
END:VTIMEZONE
BEGIN:VTIMEZONE
TZID:UTC
BEGIN:STANDARD
TZOFFSETFROM:+0000
TZOFFSETTO:+0000
DTSTART:20250625T120000
TZNAME:UTC
END:STANDARD
END:VTIMEZONE
BEGIN:VEVENT
SUMMARY:Merry Christmas!
DESCRIPTION:
URL;VALUE=URI:https://lifespanfamilyhealthcare.com/events/merry-christma
 s-3/
UID:urn:uuid:b19a6836-fe62-4bdf-abdd-75e19db7a0e8
STATUS:CONFIRMED
ORGANIZER:
DTSTAMP:20260423T102312Z
DTSTART;VALUE=DATE:20251225
END:VEVENT
END:VCALENDAR