BEGIN:VCALENDAR
METHOD:PUBLISH
VERSION:2.0
CALSCALE:GREGORIAN
PRODID:-//NONSGML WPForms//NONSGML Sugar Calendar Feeds v3.11.0//EN
X-WR-CALNAME:MHC leaves by 3pm
X-WR-CALDESC:Lifespan Family Healthcare
X-WR-TIMEZONE:UTC
BEGIN:VTIMEZONE
TZID:UTC
BEGIN:STANDARD
TZOFFSETFROM:+0000
TZOFFSETTO:+0000
DTSTART:20240327T120000
TZNAME:UTC
END:STANDARD
END:VTIMEZONE
BEGIN:VTIMEZONE
TZID:UTC
BEGIN:STANDARD
TZOFFSETFROM:+0000
TZOFFSETTO:+0000
DTSTART:20240327T120000
TZNAME:UTC
END:STANDARD
END:VTIMEZONE
BEGIN:VEVENT
SUMMARY:MHC leaves by 3pm
DESCRIPTION:
URL;VALUE=URI:https://lifespanfamilyhealthcare.com/events/mhc-leaves-by-
 3pm/
UID:urn:uuid:aa25c5eb-d706-44ac-bc7c-6cd045b63189
STATUS:CONFIRMED
ORGANIZER:
DTSTAMP:20260420T125956Z
DTSTART;TZID=UTC:20240926T000000
DTEND;TZID=UTC:20240926T000000
END:VEVENT
END:VCALENDAR