BEGIN:VCALENDAR
METHOD:PUBLISH
VERSION:2.0
CALSCALE:GREGORIAN
PRODID:-//NONSGML WPForms//NONSGML Sugar Calendar Feeds v3.11.0//EN
X-WR-CALNAME:MHC off (boards)
X-WR-CALDESC:Lifespan Family Healthcare
X-WR-TIMEZONE:UTC
BEGIN:VTIMEZONE
TZID:UTC
BEGIN:STANDARD
TZOFFSETFROM:+0000
TZOFFSETTO:+0000
DTSTART:20210510T120000
TZNAME:UTC
END:STANDARD
END:VTIMEZONE
BEGIN:VTIMEZONE
TZID:UTC
BEGIN:STANDARD
TZOFFSETFROM:+0000
TZOFFSETTO:+0000
DTSTART:20210510T120000
TZNAME:UTC
END:STANDARD
END:VTIMEZONE
BEGIN:VEVENT
SUMMARY:MHC off (boards)
DESCRIPTION:
URL;VALUE=URI:https://lifespanfamilyhealthcare.com/events/mhc-off-boards
 /
UID:urn:uuid:b3c167f8-cb10-4ca8-b940-e03f30a81798
STATUS:CONFIRMED
ORGANIZER:
DTSTAMP:20260425T132547Z
DTSTART;VALUE=DATE:20211109
END:VEVENT
END:VCALENDAR