BEGIN:VCALENDAR
METHOD:PUBLISH
VERSION:2.0
CALSCALE:GREGORIAN
PRODID:-//NONSGML WPForms//NONSGML Sugar Calendar Feeds v3.11.0//EN
X-WR-CALNAME:MHC/REC off
X-WR-CALDESC:Lifespan Family Healthcare
X-WR-TIMEZONE:UTC
BEGIN:VTIMEZONE
TZID:UTC
BEGIN:STANDARD
TZOFFSETFROM:+0000
TZOFFSETTO:+0000
DTSTART:20211220T120000
TZNAME:UTC
END:STANDARD
END:VTIMEZONE
BEGIN:VTIMEZONE
TZID:UTC
BEGIN:STANDARD
TZOFFSETFROM:+0000
TZOFFSETTO:+0000
DTSTART:20211220T120000
TZNAME:UTC
END:STANDARD
END:VTIMEZONE
BEGIN:VEVENT
SUMMARY:MHC/REC off
DESCRIPTION:
URL;VALUE=URI:https://lifespanfamilyhealthcare.com/events/mhc-rec-off-10
 /
UID:urn:uuid:dc0d613f-1d14-4d83-96ad-66161a5e8ee8
STATUS:CONFIRMED
ORGANIZER:
DTSTAMP:20260419T144911Z
DTSTART;VALUE=DATE:20220621
END:VEVENT
END:VCALENDAR