BEGIN:VCALENDAR
METHOD:PUBLISH
VERSION:2.0
CALSCALE:GREGORIAN
PRODID:-//NONSGML WPForms//NONSGML Sugar Calendar Feeds v3.11.0//EN
X-WR-CALNAME:REC off
X-WR-CALDESC:Lifespan Family Healthcare
X-WR-TIMEZONE:UTC
BEGIN:VTIMEZONE
TZID:UTC
BEGIN:STANDARD
TZOFFSETFROM:+0000
TZOFFSETTO:+0000
DTSTART:20220215T120000
TZNAME:UTC
END:STANDARD
END:VTIMEZONE
BEGIN:VTIMEZONE
TZID:UTC
BEGIN:STANDARD
TZOFFSETFROM:+0000
TZOFFSETTO:+0000
DTSTART:20220215T120000
TZNAME:UTC
END:STANDARD
END:VTIMEZONE
BEGIN:VEVENT
SUMMARY:REC off
DESCRIPTION:
URL;VALUE=URI:https://lifespanfamilyhealthcare.com/events/rec-off-3/
UID:urn:uuid:0b7db5f8-d07b-48bf-b1e0-f9465bcabc39
STATUS:CONFIRMED
ORGANIZER:
DTSTAMP:20260419T123737Z
DTSTART;VALUE=DATE:20220817
END:VEVENT
END:VCALENDAR