BEGIN:VCALENDAR
METHOD:PUBLISH
VERSION:2.0
CALSCALE:GREGORIAN
PRODID:-//NONSGML WPForms//NONSGML Sugar Calendar Feeds v3.11.0//EN
X-WR-CALNAME:SBL/SL CME
X-WR-CALDESC:Lifespan Family Healthcare
X-WR-TIMEZONE:UTC
BEGIN:VTIMEZONE
TZID:UTC
BEGIN:STANDARD
TZOFFSETFROM:+0000
TZOFFSETTO:+0000
DTSTART:20231119T120000
TZNAME:UTC
END:STANDARD
END:VTIMEZONE
BEGIN:VTIMEZONE
TZID:UTC
BEGIN:STANDARD
TZOFFSETFROM:+0000
TZOFFSETTO:+0000
DTSTART:20231119T120000
TZNAME:UTC
END:STANDARD
END:VTIMEZONE
BEGIN:VEVENT
SUMMARY:SBL/SL CME
DESCRIPTION:
URL;VALUE=URI:https://lifespanfamilyhealthcare.com/events/sbl-sl-off-27/
UID:urn:uuid:cd449c4e-121a-4819-b346-7ffc9d583720
STATUS:CONFIRMED
ORGANIZER:
DTSTAMP:20260420T204939Z
DTSTART;VALUE=DATE:20240520
DTEND;VALUE=DATE:20240523
END:VEVENT
END:VCALENDAR