BEGIN:VCALENDAR
METHOD:PUBLISH
VERSION:2.0
CALSCALE:GREGORIAN
PRODID:-//NONSGML WPForms//NONSGML Sugar Calendar Feeds v3.11.0//EN
X-WR-CALNAME:SEF am only
X-WR-CALDESC:Lifespan Family Healthcare
X-WR-TIMEZONE:UTC
BEGIN:VTIMEZONE
TZID:UTC
BEGIN:STANDARD
TZOFFSETFROM:+0000
TZOFFSETTO:+0000
DTSTART:20250730T120000
TZNAME:UTC
END:STANDARD
END:VTIMEZONE
BEGIN:VTIMEZONE
TZID:UTC
BEGIN:STANDARD
TZOFFSETFROM:+0000
TZOFFSETTO:+0000
DTSTART:20250730T120000
TZNAME:UTC
END:STANDARD
END:VTIMEZONE
BEGIN:VEVENT
SUMMARY:SEF am only
DESCRIPTION:
URL;VALUE=URI:https://lifespanfamilyhealthcare.com/events/sef-am-only-7/
UID:urn:uuid:b5f8788c-0268-4821-a1ba-66eb8e28218c
STATUS:CONFIRMED
ORGANIZER:
DTSTAMP:20260423T101521Z
DTSTART;VALUE=DATE:20260129
END:VEVENT
END:VCALENDAR