BEGIN:VCALENDAR
METHOD:PUBLISH
VERSION:2.0
CALSCALE:GREGORIAN
PRODID:-//NONSGML WPForms//NONSGML Sugar Calendar Feeds v3.11.0//EN
X-WR-CALNAME:SEF off
X-WR-CALDESC:Lifespan Family Healthcare
X-WR-TIMEZONE:UTC
BEGIN:VTIMEZONE
TZID:UTC
BEGIN:STANDARD
TZOFFSETFROM:+0000
TZOFFSETTO:+0000
DTSTART:20240619T120000
TZNAME:UTC
END:STANDARD
END:VTIMEZONE
BEGIN:VTIMEZONE
TZID:UTC
BEGIN:STANDARD
TZOFFSETFROM:+0000
TZOFFSETTO:+0000
DTSTART:20240619T120000
TZNAME:UTC
END:STANDARD
END:VTIMEZONE
BEGIN:VEVENT
SUMMARY:SEF off
DESCRIPTION:
URL;VALUE=URI:https://lifespanfamilyhealthcare.com/events/sef-off-23/
UID:urn:uuid:dcd0a398-4cce-4cc1-9184-b794d4102c26
STATUS:CONFIRMED
ORGANIZER:
DTSTAMP:20260423T103327Z
DTSTART;VALUE=DATE:20241219
END:VEVENT
END:VCALENDAR