BEGIN:VCALENDAR
METHOD:PUBLISH
VERSION:2.0
CALSCALE:GREGORIAN
PRODID:-//NONSGML WPForms//NONSGML Sugar Calendar Feeds v3.11.0//EN
X-WR-CALNAME:SEF off
X-WR-CALDESC:Lifespan Family Healthcare
X-WR-TIMEZONE:UTC
BEGIN:VTIMEZONE
TZID:UTC
BEGIN:STANDARD
TZOFFSETFROM:+0000
TZOFFSETTO:+0000
DTSTART:20220103T120000
TZNAME:UTC
END:STANDARD
END:VTIMEZONE
BEGIN:VTIMEZONE
TZID:UTC
BEGIN:STANDARD
TZOFFSETFROM:+0000
TZOFFSETTO:+0000
DTSTART:20220103T120000
TZNAME:UTC
END:STANDARD
END:VTIMEZONE
BEGIN:VEVENT
SUMMARY:SEF off
DESCRIPTION:
URL;VALUE=URI:https://lifespanfamilyhealthcare.com/events/sef-off-4/
UID:urn:uuid:cd5575ac-8cb2-4071-a5ee-35eb487134ef
STATUS:CONFIRMED
ORGANIZER:
DTSTAMP:20260419T144742Z
DTSTART;VALUE=DATE:20220705
END:VEVENT
END:VCALENDAR