BEGIN:VCALENDAR
METHOD:PUBLISH
VERSION:2.0
CALSCALE:GREGORIAN
PRODID:-//NONSGML WPForms//NONSGML Sugar Calendar Feeds v3.11.0//EN
X-WR-CALNAME:Staff Meeting
X-WR-CALDESC:Lifespan Family Healthcare
X-WR-TIMEZONE:UTC
BEGIN:VTIMEZONE
TZID:UTC
BEGIN:STANDARD
TZOFFSETFROM:+0000
TZOFFSETTO:+0000
DTSTART:20220113T010000
TZNAME:UTC
END:STANDARD
END:VTIMEZONE
BEGIN:VTIMEZONE
TZID:UTC
BEGIN:STANDARD
TZOFFSETFROM:+0000
TZOFFSETTO:+0000
DTSTART:20220113T010000
TZNAME:UTC
END:STANDARD
END:VTIMEZONE
BEGIN:VEVENT
SUMMARY:Staff Meeting
DESCRIPTION:
URL;VALUE=URI:https://lifespanfamilyhealthcare.com/events/staff-meeting-
 22/
UID:urn:uuid:ceb3e66d-9b3e-43cb-821f-47e2b4582c54
STATUS:CONFIRMED
ORGANIZER:
DTSTAMP:20260419T131836Z
DTSTART;TZID=UTC:20220714T130000
DTEND;TZID=UTC:20220714T130000
END:VEVENT
END:VCALENDAR