BEGIN:VCALENDAR
METHOD:PUBLISH
VERSION:2.0
CALSCALE:GREGORIAN
PRODID:-//NONSGML WPForms//NONSGML Sugar Calendar Feeds v3.11.0//EN
X-WR-CALNAME:Staff Mtg
X-WR-CALDESC:Lifespan Family Healthcare
X-WR-TIMEZONE:UTC
BEGIN:VTIMEZONE
TZID:UTC
BEGIN:STANDARD
TZOFFSETFROM:+0000
TZOFFSETTO:+0000
DTSTART:20230810T010000
TZNAME:UTC
END:STANDARD
END:VTIMEZONE
BEGIN:VTIMEZONE
TZID:UTC
BEGIN:STANDARD
TZOFFSETFROM:+0000
TZOFFSETTO:+0000
DTSTART:20230810T010000
TZNAME:UTC
END:STANDARD
END:VTIMEZONE
BEGIN:VEVENT
SUMMARY:Staff Mtg
DESCRIPTION:
URL;VALUE=URI:https://lifespanfamilyhealthcare.com/events/staff-mtg-8/
UID:urn:uuid:ceeafd1b-5d1b-4bef-bce6-732692744845
STATUS:CONFIRMED
ORGANIZER:
DTSTAMP:20260423T085812Z
DTSTART;TZID=UTC:20240208T130000
DTEND;TZID=UTC:20240208T140000
END:VEVENT
END:VCALENDAR